BEGIN:VCALENDAR
VERSION:2.0
PRODID:-//Nfn - ECPv6.11.0.1//NONSGML v1.0//EN
CALSCALE:GREGORIAN
METHOD:PUBLISH
X-WR-CALNAME:Nfn
X-ORIGINAL-URL:https://www.nfn-fm.no
X-WR-CALDESC:Arrangement for Nfn
REFRESH-INTERVAL;VALUE=DURATION:PT1H
X-Robots-Tag:noindex
X-PUBLISHED-TTL:PT1H
BEGIN:VTIMEZONE
TZID:Europe/Oslo
BEGIN:DAYLIGHT
TZOFFSETFROM:+0100
TZOFFSETTO:+0200
TZNAME:CEST
DTSTART:20250330T010000
END:DAYLIGHT
BEGIN:STANDARD
TZOFFSETFROM:+0200
TZOFFSETTO:+0100
TZNAME:CET
DTSTART:20251026T010000
END:STANDARD
END:VTIMEZONE
BEGIN:VEVENT
DTSTART;TZID=Europe/Oslo:20250605T080000
DTEND;TZID=Europe/Oslo:20250605T120000
DTSTAMP:20260419T223857
CREATED:20250515T103050Z
LAST-MODIFIED:20250604T064735Z
UID:9437-1749110400-1749124800@www.nfn-fm.no
SUMMARY:Fysisk nettverksmøte 05.06: Hvordan bruke KI trygt og godt i planlegging av framtidens arbeidsplass?
DESCRIPTION:Det er begrenset med plasser til dette møtet. Vær tidlig ute med å melde deg på\, slik at du sikrer deg en plass. Påmeldingsfrist: 30.05. \n5. juni inviterer vi til fysisk nettverksmøte i Multiconsult sine lokaler i Nedre Skøyen vei 2. Det blir et faglig og innsiktsfult arrangement der vi belyser KI i arbeidslivet fra flere perspektiver. Dette vil du ikke gå glipp av!  \nProgram:  \n\n08.00-08.30: Frokost\, innregistrering og mingling\n08.30-08.35: Velkommen v/ Line Skreosen\, NfN\n08.40-09.10: Faginnlegg v/Kenneth Bull\, DnB\n09.15-09.45: Faginnlegg v/ Robin Sæterøy\, Multiconsult\n09.50-10.20: Faginnlegg v/ Hodan Aden\, Empire Ai\n10.55-11.25: Faginnlegg v/ Ståle Hansen\, Cloudway\n11.30-12.00: Paneldiskusjon\n\nForedragsholderne vil dele innsikt og erfaringer fra sine respektive fagområder. Møtet avsluttes med en paneldiskusjon der foredragsholderne møtes til samtale og refleksjon\, og du får mulighet til å stille spørsmål og delta i dialogen på tvers av bransjer. \nDette er et møte for deg som er nysgjerrig på hvordan KI kan brukes ansvarlig og målrettet i praksis \, enten du jobber med strategi\, teknologi\, Workplace\, organisasjonsutvikling eller planlegging. \nVelkommen til et relevant og innsiktsfullt møte om fremtidens arbeidsliv.
URL:https://www.nfn-fm.no/event/fysisk-nettverksmote-05-06-hvordan-bruke-ki-trygt-og-godt-i-planlegging-av-framtidens-arbeidsplass/
LOCATION:Multiconsult\, Nedre Skøyen vei 2\, Oslo\, 0276
CATEGORIES:Fagmøter hos andre
ATTACH;FMTTYPE=image/jpeg:https://www.nfn-fm.no/wp-content/uploads/2025/05/ai-generated-7945691_1280.jpg
END:VEVENT
END:VCALENDAR