BEGIN:VCALENDAR
VERSION:2.0
PRODID:-//Nfn - ECPv6.11.0.1//NONSGML v1.0//EN
CALSCALE:GREGORIAN
METHOD:PUBLISH
X-WR-CALNAME:Nfn
X-ORIGINAL-URL:https://www.nfn-fm.no
X-WR-CALDESC:Arrangement for Nfn
REFRESH-INTERVAL;VALUE=DURATION:PT1H
X-Robots-Tag:noindex
X-PUBLISHED-TTL:PT1H
BEGIN:VTIMEZONE
TZID:Europe/Oslo
BEGIN:DAYLIGHT
TZOFFSETFROM:+0100
TZOFFSETTO:+0200
TZNAME:CEST
DTSTART:20250330T010000
END:DAYLIGHT
BEGIN:STANDARD
TZOFFSETFROM:+0200
TZOFFSETTO:+0100
TZNAME:CET
DTSTART:20251026T010000
END:STANDARD
END:VTIMEZONE
BEGIN:VEVENT
DTSTART;TZID=Europe/Oslo:20250512T090000
DTEND;TZID=Europe/Oslo:20250512T100000
DTSTAMP:20260420T074737
CREATED:20250430T063051Z
LAST-MODIFIED:20250502T125825Z
UID:9366-1747040400-1747044000@www.nfn-fm.no
SUMMARY:Digitalt nettverksmøte 12.05: Lær hvorfor vannbehandling er nøkkelen til å spare energi og redusere kostnader!
DESCRIPTION:Spar energi og reduser kostnader – lær hvorfor vannbehandling er nøkkelen!  \nDårlig vannkvalitet i varme- og kjøleanlegg koster – både i energi\, vedlikehold og levetid.\nKompa er Norges ledende ProTech-ekspert på vannbehandling og har utviklet Inspektor\, et unikt digitalt verktøy som samler og analyserer data fra over 4000 anlegg. \nI løpet av én time lærer du: \n\nHvorfor vannbehandling er kritisk for effektiv drift\nHva som skjer når vannbehandlingen slurves\nHvordan strukturert innsikt kan gi store energibesparelser\n\nVi viser deg konkrete tall og eksempler fra Norges største vannbehandlingsdatabase.\nBli med – og få verktøyene du trenger for å ta smartere beslutninger! \n  \nLenke til Teamsmøtet: 12.05. Vannbehandling
URL:https://www.nfn-fm.no/event/digitalt-nettverksmote-12-05-vannbehandling/
LOCATION:Teams
CATEGORIES:Digitalt møte
ATTACH;FMTTYPE=image/png:https://www.nfn-fm.no/wp-content/uploads/2025/04/kompa-nfn.png
END:VEVENT
BEGIN:VEVENT
DTSTART;TZID=Europe/Oslo:20250514T090000
DTEND;TZID=Europe/Oslo:20250514T094500
DTSTAMP:20260420T074737
CREATED:20250429T123749Z
LAST-MODIFIED:20250430T065226Z
UID:9348-1747213200-1747215900@www.nfn-fm.no
SUMMARY:Digitalt nettverksmøte 14. mai: Arbeidsmiljøtilstanden i Norge - status og utvikling. Hva vet vi og hvorfor er arbeidsmiljøarbeid viktig?
DESCRIPTION:Vi starter opp med et digitalt møte onsdag 14. mai kl. 09.00-09.45. Flere møter vil følge\, basert på ønsker og innspill fra dere.  \nSTAMI (Statens Arbeidsmiljøinstitutt) er ledende i Norge på kunnskap og forskning om dette temaet. Vi er veldig glade for at Ragnhild Beate Strand Østrem fra STAMI vil holde innlegg i møtet 14. mai. Hun vil snakke om: \n\nHvorfor er arbeidsmiljøarbeid viktig?\nHvor kan du finne nødvendig kunnskap og verktøy?\nHva kan STAMI bidra med i dette arbeidet?\n\nVel møtt til digitalt nettverksmøte! \nLenke til Teamsmøte: Join the meeting now \n 
URL:https://www.nfn-fm.no/event/digitalt-nettverksmote-14-mai-arbeidsmiljotilstanden-i-norge-status-og-utvikling-hva-vet-vi-og-hvorfor-er-arbeidsmiljoarbeid-viktig/
LOCATION:Teams
CATEGORIES:Digitalt møte
ATTACH;FMTTYPE=image/webp:https://www.nfn-fm.no/wp-content/uploads/2025/04/people-4386248_1280.webp
END:VEVENT
END:VCALENDAR