BEGIN:VCALENDAR
VERSION:2.0
PRODID:-//Nfn - ECPv6.11.0.1//NONSGML v1.0//EN
CALSCALE:GREGORIAN
METHOD:PUBLISH
X-ORIGINAL-URL:https://www.nfn-fm.no
X-WR-CALDESC:Arrangement for Nfn
REFRESH-INTERVAL;VALUE=DURATION:PT1H
X-Robots-Tag:noindex
X-PUBLISHED-TTL:PT1H
BEGIN:VTIMEZONE
TZID:Europe/Oslo
BEGIN:DAYLIGHT
TZOFFSETFROM:+0100
TZOFFSETTO:+0200
TZNAME:CEST
DTSTART:20250330T010000
END:DAYLIGHT
BEGIN:STANDARD
TZOFFSETFROM:+0200
TZOFFSETTO:+0100
TZNAME:CET
DTSTART:20251026T010000
END:STANDARD
END:VTIMEZONE
BEGIN:VEVENT
DTSTART;TZID=Europe/Oslo:20250506T090000
DTEND;TZID=Europe/Oslo:20250506T093000
DTSTAMP:20260420T044720
CREATED:20250210T090202Z
LAST-MODIFIED:20250613T070748Z
UID:8902-1746522000-1746523800@www.nfn-fm.no
SUMMARY:Møteserie om renhold - del 3: Hvordan ivaretas renhold i planleggingen av nybygg?
DESCRIPTION:6. mai kl. 09.00–09.30 inviterer vi til det siste  møtet i møteserien «Flytte inn i nytt bygg – kortsiktig glede for renhold?».  Dette møtet har tema «hvordan ivaretas renhold i planleggingen av nybygg?»Det blir foredrag fra Kjell-Arne Johansen og Eli Fjeld fra Arbeidstilsynet. \nPå agendaen: \n\nKort om Arbeidstilsynet\nArbeidstilsynets rolle i en søknadspliktig byggesak\nKravet til å innhente Arbeidstilsynets samtykke\nDigital innsending av søknad søknaden via e-dialog\nKrav til medvirkning\nBistand fra BHT\nGenerelle krav til renhold – dvs tilrettelegging for renhold innvendig og utvendig\n\nLenke til Teamsmøtet: Join the meeting now \n 
URL:https://www.nfn-fm.no/event/moteserie-om-renhold-del-3-tema-hvordan-ivaretas-renhold-i-planleggingen-av-nybygg/
LOCATION:Teams
CATEGORIES:Digitalt møte
ATTACH;FMTTYPE=image/jpeg:https://www.nfn-fm.no/wp-content/uploads/2025/02/building-8475437_1920.jpg
END:VEVENT
BEGIN:VEVENT
DTSTART;TZID=Europe/Oslo:20250508T090000
DTEND;TZID=Europe/Oslo:20250508T100000
DTSTAMP:20260420T044720
CREATED:20250428T065211Z
LAST-MODIFIED:20250428T095155Z
UID:9319-1746694800-1746698400@www.nfn-fm.no
SUMMARY:Digitalt møte 8.5: Bærekraft fra jord til bord med TINE
DESCRIPTION:Bli med og hør om hvordan TINE jobber med bærekraft i de ulike leddene i verdikjeden. Hvilke tiltak gjøres ute på gården for å produsere mer bærekraftig\, hvilken innsats legges det i mindre og mer bærekraftige emballasjeløsninger og hvilken rolle har melk og meieriprodukter i et sunt kosthold? \nTINE stiller med et sterkt team som representerer fagområdene bærekraft og ernæring med Elisabeth von Krogh\, fagleder Sosial Bærekraft og Kari H. Bugge\, ernæringsfysiolog og senior ernæringsrådgiver ernæring. \nVelkommen til digitalt møte! \nLenke til Teamsmøtet: Bærekraft fra jord til bord med TINE 08.05 \n 
URL:https://www.nfn-fm.no/event/digitalt-mote-08-05-baerekraft-fra-jord-til-bord-med-tine/
LOCATION:Teams
CATEGORIES:Nettmøte
ATTACH;FMTTYPE=image/jpeg:https://www.nfn-fm.no/wp-content/uploads/2025/04/tine-bilde.jpg
END:VEVENT
END:VCALENDAR