BEGIN:VCALENDAR
VERSION:2.0
PRODID:-//Nfn - ECPv6.11.0.1//NONSGML v1.0//EN
CALSCALE:GREGORIAN
METHOD:PUBLISH
X-WR-CALNAME:Nfn
X-ORIGINAL-URL:https://www.nfn-fm.no
X-WR-CALDESC:Arrangement for Nfn
REFRESH-INTERVAL;VALUE=DURATION:PT1H
X-Robots-Tag:noindex
X-PUBLISHED-TTL:PT1H
BEGIN:VTIMEZONE
TZID:Europe/Oslo
BEGIN:DAYLIGHT
TZOFFSETFROM:+0100
TZOFFSETTO:+0200
TZNAME:CEST
DTSTART:20250330T010000
END:DAYLIGHT
BEGIN:STANDARD
TZOFFSETFROM:+0200
TZOFFSETTO:+0100
TZNAME:CET
DTSTART:20251026T010000
END:STANDARD
END:VTIMEZONE
BEGIN:VEVENT
DTSTART;TZID=Europe/Oslo:20250429T090000
DTEND;TZID=Europe/Oslo:20250429T093000
DTSTAMP:20260420T093128
CREATED:20250428T093925Z
LAST-MODIFIED:20250428T093919Z
UID:9294-1745917200-1745919000@www.nfn-fm.no
SUMMARY:Digitalt nettverksmøte 29.04: Støtteprogrammer
DESCRIPTION:I dette nettverksmøtet vil Vibeke Askeland fra Enova gi en presentasjon om Enovas støtteprogrammer for bygg og eiendom. \nVel møtt til lærerikt møte! \nLenke til Teamsmøtet: Digitalt nettverksmøte 29.04: Støtteprogrammer
URL:https://www.nfn-fm.no/event/digitalt-nettverksmote-29-04-stotteordninger/
CATEGORIES:Digitalt møte
ATTACH;FMTTYPE=image/jpeg:https://www.nfn-fm.no/wp-content/uploads/2025/04/Enova-blde.jpg
END:VEVENT
END:VCALENDAR