BEGIN:VCALENDAR
VERSION:2.0
PRODID:-//Nfn - ECPv6.11.0.1//NONSGML v1.0//EN
CALSCALE:GREGORIAN
METHOD:PUBLISH
X-WR-CALNAME:Nfn
X-ORIGINAL-URL:https://www.nfn-fm.no
X-WR-CALDESC:Arrangement for Nfn
REFRESH-INTERVAL;VALUE=DURATION:PT1H
X-Robots-Tag:noindex
X-PUBLISHED-TTL:PT1H
BEGIN:VTIMEZONE
TZID:Europe/Oslo
BEGIN:DAYLIGHT
TZOFFSETFROM:+0100
TZOFFSETTO:+0200
TZNAME:CEST
DTSTART:20250330T010000
END:DAYLIGHT
BEGIN:STANDARD
TZOFFSETFROM:+0200
TZOFFSETTO:+0100
TZNAME:CET
DTSTART:20251026T010000
END:STANDARD
END:VTIMEZONE
BEGIN:VEVENT
DTSTART;TZID=Europe/Oslo:20250408T090000
DTEND;TZID=Europe/Oslo:20250408T093000
DTSTAMP:20260422T111236
CREATED:20250318T133008Z
LAST-MODIFIED:20250318T192714Z
UID:9164-1744102800-1744104600@www.nfn-fm.no
SUMMARY:Møteserie om renhold - del 2: Involvering av renhold i byggeprosjekter
DESCRIPTION:Den 8. april inviterer vi til det andre møtet i møteserien «Flytte inn i nytt bygg – kortsiktig glede for renhold?». Denne gangen retter vi fokus mot hvordan renhold kan involveres i byggeprosjekter for å sikre gode løsninger. \nPå agendaen: \n\nEn kort refleksjon: Hvor står renholdsfaget i dag?\nViktige påvirkningsområder – hva bør vi endre\, og hvorfor?\nStrategier for å få gjennomslag i prosjektene.\n\nVi får et spennende foredrag fra Paulo Ruvina\, Vestre Viken HF. \nBli med for faglig påfyll og gode diskusjoner! \nLenke til Teamsmøtet: Join the meeting now
URL:https://www.nfn-fm.no/event/moteserie-om-renhold-del-2-involvering-av-dialog-om-renhold-i-byggeprosjekter/
CATEGORIES:Digitalt møte
ATTACH;FMTTYPE=image/jpeg:https://www.nfn-fm.no/wp-content/uploads/2025/02/building-8475437_1920.jpg
END:VEVENT
END:VCALENDAR