BEGIN:VCALENDAR
VERSION:2.0
PRODID:-//Nfn - ECPv6.11.0.1//NONSGML v1.0//EN
CALSCALE:GREGORIAN
METHOD:PUBLISH
X-ORIGINAL-URL:https://www.nfn-fm.no
X-WR-CALDESC:Arrangement for Nfn
REFRESH-INTERVAL;VALUE=DURATION:PT1H
X-Robots-Tag:noindex
X-PUBLISHED-TTL:PT1H
BEGIN:VTIMEZONE
TZID:Europe/Oslo
BEGIN:DAYLIGHT
TZOFFSETFROM:+0100
TZOFFSETTO:+0200
TZNAME:CEST
DTSTART:20250330T010000
END:DAYLIGHT
BEGIN:STANDARD
TZOFFSETFROM:+0200
TZOFFSETTO:+0100
TZNAME:CET
DTSTART:20251026T010000
END:STANDARD
END:VTIMEZONE
BEGIN:VEVENT
DTSTART;TZID=Europe/Oslo:20250326T090000
DTEND;TZID=Europe/Oslo:20250326T110000
DTSTAMP:20260424T150109
CREATED:20250225T140212Z
LAST-MODIFIED:20250312T083232Z
UID:8999-1742979600-1742986800@www.nfn-fm.no
SUMMARY:Fysisk nettverksmøte hos SWECO 26.03: Hvordan ser fremtidens arbeidsplass ut?
DESCRIPTION:Swecos nye hovedkontor i Veksthuset på Grønland gir svaret! Smarte teknologiløsninger\, bærekraftig design og fleksible soner gjør kontoret til en magnet for talenter – og en modell for andre som ønsker å optimalisere sine kontorbygg. \nDet nye kontoret er langt mer enn en arbeidsplass- det er en arena for samarbeid og innovasjon midt i hjertet av Oslo. Med fleksible soner og avanserte teknologiske løsninger gir bygget Sweco muligheten til å jobbe på tvers av team og divisjoner\, samtidig som det inspirerer til trivsel og nytenkning. Beliggenheten på Grønland gir en unik nærhet til byutviklingen som Sweco også er med på å forme. \nDere inviteres til faglig påfyll og omvisning av Veksthuset 26.03.25 kl. 09.00-11.00\, dere vil møte facilitymanager Vivi-Ann Conradi i Sweco og leder for interiørarkitektavd. Katrine Åsheim i Sweco Architects. Det blir enkel bevertning. Adresse er Norbygata 14\, 0187 Oslo. \nTil dette møtet er det begrenset med plasser.  \nMeld deg på ved å trykke på lenken lenger opp i invitasjonen. Om du mot formodning\, etter å ha meldt deg på\, ikke har anledning til å delta\, setter vi pris på beskjed så snart som mulig. \n Påmeldingsfrist er fredag 21. mars.
URL:https://www.nfn-fm.no/event/fysisk-nettverksmote-26-03-sweco/
LOCATION:Nordbygata 14\, Nordbygata 14\, Oslo\, 0187\, Norge
CATEGORIES:Fagmøter hos andre
ATTACH;FMTTYPE=image/jpeg:https://www.nfn-fm.no/wp-content/uploads/2025/02/Hovedkontor_SWO_03806.jpg
END:VEVENT
END:VCALENDAR