BEGIN:VCALENDAR
VERSION:2.0
PRODID:-//Nfn - ECPv6.11.0.1//NONSGML v1.0//EN
CALSCALE:GREGORIAN
METHOD:PUBLISH
X-ORIGINAL-URL:https://www.nfn-fm.no
X-WR-CALDESC:Arrangement for Nfn
REFRESH-INTERVAL;VALUE=DURATION:PT1H
X-Robots-Tag:noindex
X-PUBLISHED-TTL:PT1H
BEGIN:VTIMEZONE
TZID:Europe/Oslo
BEGIN:DAYLIGHT
TZOFFSETFROM:+0100
TZOFFSETTO:+0200
TZNAME:CEST
DTSTART:20250330T010000
END:DAYLIGHT
BEGIN:STANDARD
TZOFFSETFROM:+0200
TZOFFSETTO:+0100
TZNAME:CET
DTSTART:20251026T010000
END:STANDARD
END:VTIMEZONE
BEGIN:VEVENT
DTSTART;TZID=Europe/Oslo:20250317T130000
DTEND;TZID=Europe/Oslo:20250317T150000
DTSTAMP:20260424T164258
CREATED:20250214T095119Z
LAST-MODIFIED:20250310T112759Z
UID:8849-1742216400-1742223600@www.nfn-fm.no
SUMMARY:Fysisk nettverksmøte hos EY: "Hvordan kan din organisasjon få et fortrinn i et stadig mer dynamisk arbeidsliv og konkurransepreget arbeidsmarked?"
DESCRIPTION:17. mars inviterer vi til fysisk nettverksmøte.  Møtet avholdes i EY sine lokaler på Stortorvet 7. \nVelkommen til et faglig seminar og nettverksarrangement\, hvor EY utforsker de seneste funnene fra deres globale forskningsprosjekt innen arbeidsliv: Work Reimagined 2025. \nEY ser en økning i bruken av generativ AI (GenAI) som drastisk endrer hvordan organisasjoner arbeider\, bidrar til økt produktivitet og ferdighetsutvikling. Samtidig er arbeidstakeres forventninger til karriere\, kompensasjonsordninger og arbeidssted endret\, og arbeidsgivere må tenke nytt for å tiltrekke\, utvikle og beholde talenter. \nEY ønsker NfN-nettverket velkommen til å dele sine erfaringer og utforske fremtidens arbeidsliv sammen med dem! \nTil dette møtet er det begrenset med plasser.  \nMeld deg på ved å trykke på lenken lenger opp i invitasjonen. Om du mot formodning\, etter å ha meldt deg på\, ikke har anledning til å delta\, setter vi pris på beskjed så snart som mulig. \n Påmeldingsfrist er søndag 9. mars.
URL:https://www.nfn-fm.no/event/fysisk-nettverksmote-hos-ey-hvordan-kan-din-organisasjon-fa-et-fortrinn-i-et-stadig-mer-dynamisk-arbeidsliv-og-konkurransepreget-arbeidsmarked/
LOCATION:EY – Stortorvet 7\, Stortorvet 7\, Oslo\, 0155\, Norge
CATEGORIES:Fagmøter hos andre
ATTACH;FMTTYPE=image/jpeg:https://www.nfn-fm.no/wp-content/uploads/2025/02/Work-Reimagined-scaled.jpg
END:VEVENT
END:VCALENDAR