BEGIN:VCALENDAR
VERSION:2.0
PRODID:-//Nfn - ECPv6.11.0.1//NONSGML v1.0//EN
CALSCALE:GREGORIAN
METHOD:PUBLISH
X-ORIGINAL-URL:https://www.nfn-fm.no
X-WR-CALDESC:Arrangement for Nfn
REFRESH-INTERVAL;VALUE=DURATION:PT1H
X-Robots-Tag:noindex
X-PUBLISHED-TTL:PT1H
BEGIN:VTIMEZONE
TZID:Europe/Oslo
BEGIN:DAYLIGHT
TZOFFSETFROM:+0100
TZOFFSETTO:+0200
TZNAME:CEST
DTSTART:20240331T010000
END:DAYLIGHT
BEGIN:STANDARD
TZOFFSETFROM:+0200
TZOFFSETTO:+0100
TZNAME:CET
DTSTART:20241027T010000
END:STANDARD
END:VTIMEZONE
BEGIN:VEVENT
DTSTART;TZID=Europe/Oslo:20241127T083000
DTEND;TZID=Europe/Oslo:20241127T110000
DTSTAMP:20260425T170405
CREATED:20241115T144248Z
LAST-MODIFIED:20241121T210454Z
UID:8459-1732696200-1732705200@www.nfn-fm.no
SUMMARY:Fysisk nettverksmøte 27.11: Hvordan utnytte tilgjengelig data for optimalisert arealbruk?
DESCRIPTION:I dette møtet ønsker Proptechgruppen å involvere medlemmene for flere innspill om hvordan man utnytter tilgjengelig data også hos våre medlemmer. Vi ønsker også å avlive noen myter om at denne innsikten ikke nødvendigvis trenger å koste så mye. Med innlegg fra DnB og If om hvordan de på veldig forskjellig måte samler\, analyserer og benytter data hos seg\, tenker vi inspirere til gruppediskusjoner for enda bedre innsikt i de muligheter som finnes\, med felles oppsummering og deling. Her kan vi alle bli bedre sammen! \nAgenda:  \nkl. 08.15: Dørene åpnes \nkl. 08.30: Programmet starter \n\nInnlegg v/ Kenneth Bull\, DnB\nGruppediskusjon\nOppsummering pr gruppe for felles deling\nInnlegg v/ Trude Harneshaug\, If\nGruppediskusjon\nOppsummering pr gruppe for felles deling\nAvslutning\n\nkl. 11.00: Vel hjem \nDet blir servert en enkel frokost. \nNB! Det er begrenset med plasser til dette møtet. Vær tidlig ute med å melde deg på\, slik at du sikrer deg en plass. Påmeldingsfrist er fredag 22. november. Om du mot formodning\, etter å ha meldt deg på\, ikke har anledning til å delta\, setter vi pris på beskjed så snart som mulig.
URL:https://www.nfn-fm.no/event/fysisk-nettverksmote-27-11-hvordan-utnytte-tilgjengelig-data-for-optimalisert-arealbruk/
LOCATION:Multiconsult\, Nedre Skøyen vei 2\, Oslo\, 0276
CATEGORIES:Fagmøter hos andre,FM
ATTACH;FMTTYPE=image/jpeg:https://www.nfn-fm.no/wp-content/uploads/2024/11/Capture-3.jpg
END:VEVENT
END:VCALENDAR