BEGIN:VCALENDAR
VERSION:2.0
PRODID:-//Nfn - ECPv6.11.0.1//NONSGML v1.0//EN
CALSCALE:GREGORIAN
METHOD:PUBLISH
X-ORIGINAL-URL:https://www.nfn-fm.no
X-WR-CALDESC:Arrangement for Nfn
REFRESH-INTERVAL;VALUE=DURATION:PT1H
X-Robots-Tag:noindex
X-PUBLISHED-TTL:PT1H
BEGIN:VTIMEZONE
TZID:Europe/Oslo
BEGIN:DAYLIGHT
TZOFFSETFROM:+0100
TZOFFSETTO:+0200
TZNAME:CEST
DTSTART:20240331T010000
END:DAYLIGHT
BEGIN:STANDARD
TZOFFSETFROM:+0200
TZOFFSETTO:+0100
TZNAME:CET
DTSTART:20241027T010000
END:STANDARD
END:VTIMEZONE
BEGIN:VEVENT
DTSTART;TZID=Europe/Oslo:20241120T090000
DTEND;TZID=Europe/Oslo:20241120T093000
DTSTAMP:20260425T182629
CREATED:20240611T200129Z
LAST-MODIFIED:20240921T073133Z
UID:8053-1732093200-1732095000@www.nfn-fm.no
SUMMARY:Møteserie om well-being - Del 2\, møte nr. 2: WORKPLACE EXPERIENCE
DESCRIPTION:20. november kl. 09.00-09.30 arrangerer vi det tredje møtet i høstens møteserie om well-being! \n  \nVi inviterer til et digitalt nettverksmøte om arbeidsplassopplevelser \nTjenesteutvalg og opplevelser på arbeidsplassen er med på å skape kultur og bidrar til at bedriften leverer på egen strategi. \nWorkplace Experience Manager for ISS Norge\, Cecilie Bjørgås Jordheim\, vil presentere deres designmetode for relevante og meningsfulle opplevelser på arbeidsplassen. \n  \nFra teori til praksis  \nI partnerskap med ISS\, jobber Nordea bevisst med stadig å forbedre ansattopplevelsen på sine lokasjoner. \nSamtidig som leveransen utvikles sammen med de ansatte\, skal den sikre forankring i strategi\, verdier og merkevarebudskap. \nFra Nordea kommer Head of Workplace Excellence Hege Resvoll Skaug \n  \nLenke til Teamsmøtet: Join the meeting now
URL:https://www.nfn-fm.no/event/moteserie-om-well-being-del-2-mote-nr-2-workplace-experience/
LOCATION:Teams
ATTACH;FMTTYPE=image/jpeg:https://www.nfn-fm.no/wp-content/uploads/2024/06/Captureo.jpg
END:VEVENT
END:VCALENDAR